BEGIN:VCALENDAR
VERSION:2.0
PRODID:-//wp-events-plugin.com//6.6.4.4//EN
TZID:America/Mexico_City
X-WR-TIMEZONE:America/Mexico_City
BEGIN:VEVENT
UID:43@expoguadalajara.mx
DTSTART;TZID=America/Mexico_City:20250709T120000
DTEND;TZID=America/Mexico_City:20250711T193000
DTSTAMP:20250314T175310Z
URL:https://expoguadalajara.mx/events/publicitaria-imprexpo/
SUMMARY:Publicitaria Imprexpo
DESCRIPTION:\nPublicitaria Imprexpo\nIMPREXPO es la exhibición en donde en
 contraras las ultimas tendencias en equipos e insumos para las artes gráf
 icas.\nDetalles\n\n\n\n\nSitio Web\nIr al sitio\n\nTeléfono\n52 33 10 57 
 45 32\n52 33 10 57 45 33\nCorreo\ninformes@publicitaria.mx\nHorario\n09 de
  Julio 12:00 - 19:30 hrs\n10 de Julio: 11:30 - 19:30 hrs\n11 de Julio: 11:
 30 - 19:00 hrs\n\n\nFacebook\nIr al perfil\nInstagram\nIr al perfil\nAdmis
 ión de menores de edad\nEvento para mayores de edad\nRegistro\nIr al siti
 o\n\n\n
ATTACH;FMTTYPE=image/jpeg:https://expoguadalajara.mx/wp-content/uploads/20
 25/03/publicitaria-imprexpo.jpg
CATEGORIES:Exposiciones
LOCATION:Salón Jalisco B y C\, Av. Mariano Otero 1499\, Verde Valle\, 4455
 0\, Guadalajara\, Jalisco\, México\, México
X-APPLE-STRUCTURED-LOCATION;VALUE=URI;X-ADDRESS=Av. Mariano Otero 1499\, Ve
 rde Valle\, 44550\, Guadalajara\, Jalisco\, México\, México;X-APPLE-RADI
 US=100;X-TITLE=Salón Jalisco B y C:geo:0,0
END:VEVENT
BEGIN:VTIMEZONE
TZID:America/Mexico_City
X-LIC-LOCATION:America/Mexico_City
BEGIN:STANDARD
DTSTART:20240709T120000
TZOFFSETFROM:-0600
TZOFFSETTO:-0600
TZNAME:CST
END:STANDARD
END:VTIMEZONE
END:VCALENDAR