BEGIN:VCALENDAR
VERSION:2.0
PRODID:-//wp-events-plugin.com//6.6.4.4//EN
TZID:America/Mexico_City
X-WR-TIMEZONE:America/Mexico_City
BEGIN:VEVENT
UID:351@expoguadalajara.mx
DTSTART;TZID=America/Mexico_City:20261023T100000
DTEND;TZID=America/Mexico_City:20261027T200000
DTSTAMP:20260106T151201Z
URL:https://expoguadalajara.mx/events/reunion-anual-de-la-academia-mexican
 a-de-neurologia/
SUMMARY:Reunion Anual de la Academia Mexicana de Neurologia
DESCRIPTION:\n\n\n\nReunion Anual de la Academia Mexicana de Neurologia\n\n
 \n
ATTACH;FMTTYPE=image/jpeg:https://expoguadalajara.mx/wp-content/uploads/20
 25/02/evento-1.svg
CATEGORIES:Congresos
LOCATION:Salón Guadalajara\, Av. Mariano Otero 1499\, Verde Valle\, 44550\
 , Guadalajara\, México
X-APPLE-STRUCTURED-LOCATION;VALUE=URI;X-ADDRESS=Av. Mariano Otero 1499\, Ve
 rde Valle\, 44550\, Guadalajara\, México;X-APPLE-RADIUS=100;X-TITLE=Saló
 n Guadalajara:geo:0,0
END:VEVENT
BEGIN:VTIMEZONE
TZID:America/Mexico_City
X-LIC-LOCATION:America/Mexico_City
BEGIN:STANDARD
DTSTART:20251023T100000
TZOFFSETFROM:-0600
TZOFFSETTO:-0600
TZNAME:CST
END:STANDARD
END:VTIMEZONE
END:VCALENDAR