BEGIN:VCALENDAR
VERSION:2.0
PRODID:-//wp-events-plugin.com//6.6.4.4//EN
TZID:America/Mexico_City
X-WR-TIMEZONE:America/Mexico_City
BEGIN:VEVENT
UID:304@expoguadalajara.mx
DTSTART;TZID=America/Mexico_City:20261007T100000
DTEND;TZID=America/Mexico_City:20261008T190000
DTSTAMP:20260310T173717Z
URL:https://expoguadalajara.mx/events/smta-guadalajara-expo-tech-forum-4/
SUMMARY:SMTA Guadalajara\, Expo & Tech Forum
DESCRIPTION:\n\n\n\nSMTA GUADALAJARA\, EXPO &amp\; TECH FORUM\n\nExpo y eve
 nto técnico dirigido a los ingenieros de procesos\, mantenimiento\, calid
 ad\, manufactura y todas aquellas áreas relacionadas con la fabricación 
 de productos electrónicos\, incluidos microsistemas\, tecnologías emerge
 ntes y operaciones comerciales relacionadas. Expo que concentra a todos lo
 s fabricantes más importantes a nivel mundial de productos y soluciones p
 ara la industria de manufactura electrónica\, atrayendo los principales f
 abricantes aeroespaciales\, automotrices\, de la industria de telecomunica
 ciones y médica.\nDetalles\n\n\n\n\nSitio Web\nHorario\nEmail\n\n\nsmta.o
 rg\nDe 10:00 am a 7:00 pm\nana@smta.org\n\n\nRedes Sociales\nAdmisión a m
 enores de edad\nLink de registro\n\n\n| FB | IG | X | IN |\nEvento para ma
 yores de edad\nRegistro\n\n\n\n
ATTACH;FMTTYPE=image/jpeg:https://expoguadalajara.mx/wp-content/uploads/20
 25/12/GLD-logo-exterior1.png
CATEGORIES:Exposiciones
LOCATION:Foro Expo\, Av. Mariano Otero 1499\, Verde Valle\, 44550\, Guadala
 jara\, México
X-APPLE-STRUCTURED-LOCATION;VALUE=URI;X-ADDRESS=Av. Mariano Otero 1499\, Ve
 rde Valle\, 44550\, Guadalajara\, México;X-APPLE-RADIUS=100;X-TITLE=Foro 
 Expo:geo:0,0
END:VEVENT
BEGIN:VTIMEZONE
TZID:America/Mexico_City
X-LIC-LOCATION:America/Mexico_City
BEGIN:STANDARD
DTSTART:20251007T100000
TZOFFSETFROM:-0600
TZOFFSETTO:-0600
TZNAME:CST
END:STANDARD
END:VTIMEZONE
END:VCALENDAR