BEGIN:VCALENDAR
VERSION:2.0
PRODID:-//wp-events-plugin.com//6.6.4.4//EN
TZID:America/Mexico_City
X-WR-TIMEZONE:America/Mexico_City
BEGIN:VEVENT
UID:17@expoguadalajara.mx
DTSTART;TZID=America/Mexico_City:20250421T000000
DTEND;TZID=America/Mexico_City:20250424T235900
DTSTAMP:20250306T212310Z
URL:https://expoguadalajara.mx/events/talent-land-mexico/
SUMMARY:Talent Land México
DESCRIPTION:\n\n\n\n\nTalent Land México\n\n\n\n\n\n\n¡Talent Land Méxic
 o 2025 reúne al talento que está cambiando el mundo!\n\nHemos preparado 
 una edición inolvidable\, llena de actividades diseñadas para despertar 
 tu curiosidad\, poner a prueba tus habilidades y expandir tu conocimiento.
  Todo esto en un entorno que te inspirará a seguir creciendo y potenciand
 o tu desarrollo profesional.\n\nTalent Land México 2025 es el evento más
  grande de innovación\, tecnología\, creatividad y emprendimiento\, dond
 e podrás explorar tu potencial al máximo. Sumérgete en nuestras tierras
  temáticas\, con cientos de expertos de diferentes áreas compartiendo su
 s ideas y abriendo puertas hacia nuevas oportunidades.\n\nConecta con quie
 nes ya están impulsando soluciones para el futuro\, comparte tus ideas y 
 colabora con personas apasionadas como tú por marcar la diferencia.\n\n¡
 Ven y juntos cambiemos al mundo con talento!\n\nDetalles\n\n\n\n\n\n\nPág
 ina web\nwww.talent-land.mx\nCorreo\ninfo@talent-network.org\n Whatsapp\n
 +52 1 33 3952 8041\n\n\n\n\n
ATTACH;FMTTYPE=image/jpeg:https://expoguadalajara.mx/wp-content/uploads/20
 25/03/talentland-mx.jpg
CATEGORIES:Convenciones
LOCATION:Salón Guadalajara y Jalisco\, Av. Mariano Otero #1499 Col. Verde 
 Valle\, Guadalajara\, Jalisco\, México\, México
X-APPLE-STRUCTURED-LOCATION;VALUE=URI;X-ADDRESS=Av. Mariano Otero #1499 Col
 . Verde Valle\, Guadalajara\, Jalisco\, México\, México;X-APPLE-RADIUS=1
 00;X-TITLE=Salón Guadalajara y Jalisco:geo:0,0
END:VEVENT
BEGIN:VTIMEZONE
TZID:America/Mexico_City
X-LIC-LOCATION:America/Mexico_City
BEGIN:STANDARD
DTSTART:20240421T000000
TZOFFSETFROM:-0600
TZOFFSETTO:-0600
TZNAME:CST
END:STANDARD
END:VTIMEZONE
END:VCALENDAR