BEGIN:VCALENDAR
VERSION:2.0
PRODID:-//wp-events-plugin.com//6.6.4.4//EN
TZID:America/Mexico_City
X-WR-TIMEZONE:America/Mexico_City
BEGIN:VEVENT
UID:383@expoguadalajara.mx
DTSTART;TZID=America/Mexico_City;VALUE=DATE:20260923
DTEND;TZID=America/Mexico_City;VALUE=DATE:20260925
DTSTAMP:20260225T223653Z
URL:https://expoguadalajara.mx/events/tricongress/
SUMMARY:TriCongress
DESCRIPTION:\n\n\n\n\n\n\n\nTRICONGRESS\n\nPrimer Congreso Internacional de
  Tricología en Guadalajara.\nUn evento único\, dirigido a médicos inter
 esados en tricología y medicina capilar\, con un programa académico de a
 lto nivel\, innovación\, ciencia y experiencia clínica real.\nDetalles\n
 \n\n\n\nHorario\nRedes Sociales\n\n\n\n\nHorario pendiente\n| IG |\n\n\n\n
 \n\n\n\n\n\n\n\n\n\n\n\n\n\n
ATTACH;FMTTYPE=image/jpeg:https://expoguadalajara.mx/wp-content/uploads/20
 26/02/portada_370x250.jpg
CATEGORIES:Congresos
LOCATION:Salones regionales\, Av. Mariano Otero #1499 Colonia Verde Valle -
  Guadalajara\, Jalisco Méx\, JAL\, Jalisco\, 44550\, Jalisco\, México
X-APPLE-STRUCTURED-LOCATION;VALUE=URI;X-ADDRESS=Av. Mariano Otero #1499 Col
 onia Verde Valle - Guadalajara\, Jalisco Méx\, JAL\, Jalisco\, 44550\, Ja
 lisco\, México;X-APPLE-RADIUS=100;X-TITLE=Salones regionales:geo:0,0
END:VEVENT
BEGIN:VTIMEZONE
TZID:America/Mexico_City
X-LIC-LOCATION:America/Mexico_City
BEGIN:STANDARD
DTSTART:20250923T000000
TZOFFSETFROM:-0600
TZOFFSETTO:-0600
TZNAME:CST
END:STANDARD
END:VTIMEZONE
END:VCALENDAR