BEGIN:VCALENDAR
VERSION:2.0
PRODID:-//wp-events-plugin.com//6.6.4.4//EN
TZID:America/Mexico_City
X-WR-TIMEZONE:America/Mexico_City
BEGIN:VEVENT
UID:60@expoguadalajara.mx
DTSTART;TZID=America/Mexico_City:20251213T110000
DTEND;TZID=America/Mexico_City:20251214T190000
DTSTAMP:20250818T223322Z
URL:https://expoguadalajara.mx/events/vive-la-conco-3/
SUMMARY:Vive la Conco
DESCRIPTION:\n\n\nVive la Conco\n\n\nEvento para los amantes del cómic\, e
 l animé y el cosplay.\nDetalles\n\n\n\nSitio Web\nNúmero de contacto\nEm
 ail\nRedes sociales\n\n\nvivelaconco.com\n33 3246 6447\ninfo@laconco.mx\nF
 B | IG | X\n\n\nAdmisión de menores de edad\nRegistro \nCosto de entrada
 \n\n\n\nEvento para toda la familia.\nconco.com\nDesde $150.00 pesos\n\n\n
 \n
ATTACH;FMTTYPE=image/jpeg:https://expoguadalajara.mx/wp-content/uploads/20
 25/03/vive-la-conco.jpg
CATEGORIES:Exposiciones
LOCATION:Salón México 1\, 2 y 3\, Av. Mariano Otero 1499\, Verde Valle\, 
 44550\, Guadalajara\, Jalisco\, México\, México
X-APPLE-STRUCTURED-LOCATION;VALUE=URI;X-ADDRESS=Av. Mariano Otero 1499\, Ve
 rde Valle\, 44550\, Guadalajara\, Jalisco\, México\, México;X-APPLE-RADI
 US=100;X-TITLE=Salón México 1\, 2 y 3:geo:0,0
END:VEVENT
BEGIN:VTIMEZONE
TZID:America/Mexico_City
X-LIC-LOCATION:America/Mexico_City
BEGIN:STANDARD
DTSTART:20241213T110000
TZOFFSETFROM:-0600
TZOFFSETTO:-0600
TZNAME:CST
END:STANDARD
END:VTIMEZONE
END:VCALENDAR