BEGIN:VCALENDAR
VERSION:2.0
PRODID:-//wp-events-plugin.com//6.6.4.4//EN
TZID:America/Mexico_City
X-WR-TIMEZONE:America/Mexico_City
BEGIN:VEVENT
UID:341@expoguadalajara.mx
DTSTART;TZID=America/Mexico_City;VALUE=DATE:20260603
DTEND;TZID=America/Mexico_City;VALUE=DATE:20260607
DTSTAMP:20260223T214856Z
URL:https://expoguadalajara.mx/events/xxx-congreso-internacional-de-la-aso
 ciacion-mexicana-de-cirugia-reconstructiva-articular-y-artroscropia-a-c/
SUMMARY:XXX Congreso Internacional de la Asociación Mexicana de Cirugía R
 econstructiva Articular y Artroscopía A.C.
DESCRIPTION:\n\n\n\nXXX Congreso Internacional de la Asociación Mexicana d
 e Cirugía Reconstructiva Articular y Artroscopía A.C.\n\nEs un foro acad
 émico de alto nivel que reúne a cirujanos ortopedistas\, especialistas e
 n artroscopia y profesionales de la salud enfocados en cirugía reconstruc
 tiva articular.\nDetalles\n\n\n\n\nHorario\nPágina Web\nEmail\n\n\n\n\nHo
 rario pendiente.\namecra.org.mx\nsecretaria@amecra.org.mx\n\n\n\n\nNúmero
  de contacto\nRedes Sociales\n\n\n\n\n\n(33) 3611-3334\n| FB | IG |\n\n\n\
 n\n\n\n\n\n\n\n\n\n\n
ATTACH;FMTTYPE=image/jpeg:https://expoguadalajara.mx/wp-content/uploads/20
 25/12/Banner-XXX-370x250-px.jpg
CATEGORIES:Congresos
LOCATION:Salón Guadalajara\, Av. Mariano Otero 1499\, Verde Valle\, 44550\
 , Guadalajara\, México
X-APPLE-STRUCTURED-LOCATION;VALUE=URI;X-ADDRESS=Av. Mariano Otero 1499\, Ve
 rde Valle\, 44550\, Guadalajara\, México;X-APPLE-RADIUS=100;X-TITLE=Saló
 n Guadalajara:geo:0,0
END:VEVENT
BEGIN:VTIMEZONE
TZID:America/Mexico_City
X-LIC-LOCATION:America/Mexico_City
BEGIN:STANDARD
DTSTART:20250603T000000
TZOFFSETFROM:-0600
TZOFFSETTO:-0600
TZNAME:CST
END:STANDARD
END:VTIMEZONE
END:VCALENDAR